Package: RnBeads.hg38 Version: 1.24.0 Command: /home/biocbuild/bbs-3.13-bioc/R/bin/R CMD check --install=check:RnBeads.hg38.install-out.txt --library=/home/biocbuild/bbs-3.13-bioc/R/library --no-vignettes --timings RnBeads.hg38_1.24.0.tar.gz StartedAt: 2021-10-16 13:52:15 -0400 (Sat, 16 Oct 2021) EndedAt: 2021-10-16 13:53:47 -0400 (Sat, 16 Oct 2021) EllapsedTime: 91.2 seconds RetCode: 0 Status: OK CheckDir: RnBeads.hg38.Rcheck Warnings: 0