Package: RNAmodR.Data Version: 1.6.0 Command: /home/biocbuild/bbs-3.13-bioc/R/bin/R CMD build --keep-empty-dirs --no-resave-data RNAmodR.Data StartedAt: 2021-10-16 12:29:42 -0400 (Sat, 16 Oct 2021) EndedAt: 2021-10-16 12:30:44 -0400 (Sat, 16 Oct 2021) EllapsedTime: 61.9 seconds RetCode: 0 Status: OK PackageFile: RNAmodR.Data_1.6.0.tar.gz PackageFileSize: 289.7 KiB