Package: DonaPLLP2013 Version: 1.30.0 Command: /home/biocbuild/bbs-3.13-bioc/R/bin/R CMD check --install=check:DonaPLLP2013.install-out.txt --library=/home/biocbuild/bbs-3.13-bioc/R/library --no-vignettes --timings DonaPLLP2013_1.30.0.tar.gz StartedAt: 2021-10-16 13:06:24 -0400 (Sat, 16 Oct 2021) EndedAt: 2021-10-16 13:06:45 -0400 (Sat, 16 Oct 2021) EllapsedTime: 20.8 seconds RetCode: 0 Status: OK CheckDir: DonaPLLP2013.Rcheck Warnings: 0