Package: DmelSGI Version: 1.24.0 Command: /home/biocbuild/bbs-3.13-bioc/R/bin/R CMD check --install=check:DmelSGI.install-out.txt --library=/home/biocbuild/bbs-3.13-bioc/R/library --no-vignettes --timings DmelSGI_1.24.0.tar.gz StartedAt: 2021-10-16 13:06:22 -0400 (Sat, 16 Oct 2021) EndedAt: 2021-10-16 13:07:26 -0400 (Sat, 16 Oct 2021) EllapsedTime: 63.6 seconds RetCode: 0 Status: OK CheckDir: DmelSGI.Rcheck Warnings: 0