Package: DmelSGI Version: 1.24.0 Command: /home/biocbuild/bbs-3.13-bioc/R/bin/R CMD build --keep-empty-dirs --no-resave-data DmelSGI StartedAt: 2021-10-16 11:46:56 -0400 (Sat, 16 Oct 2021) EndedAt: 2021-10-16 11:51:33 -0400 (Sat, 16 Oct 2021) EllapsedTime: 277.1 seconds RetCode: 0 Status: OK PackageFile: DmelSGI_1.24.0.tar.gz PackageFileSize: 173.9 MiB