Package: AneuFinderData Version: 1.20.0 Command: /home/biocbuild/bbs-3.13-bioc/R/bin/R CMD check --install=check:AneuFinderData.install-out.txt --library=/home/biocbuild/bbs-3.13-bioc/R/library --no-vignettes --timings AneuFinderData_1.20.0.tar.gz StartedAt: 2021-10-16 12:47:45 -0400 (Sat, 16 Oct 2021) EndedAt: 2021-10-16 12:47:59 -0400 (Sat, 16 Oct 2021) EllapsedTime: 14.3 seconds RetCode: 0 Status: WARNINGS CheckDir: AneuFinderData.Rcheck Warnings: 1