| Back to Long Tests report for BioC 3.13 |
This page was generated on 2021-12-11 17:30:01 -0500 (Sat, 11 Dec 2021).
| Package 13/20 | Hostname | OS / Arch | CHECK | |||||||
| DelayedMatrixStats 1.17.0 (landing page) Peter Hickey
| rex3 | Linux (Ubuntu 20.04.2 LTS) / x86_64 | OK | |||||||