Package: velociraptor Version: 1.2.0 Command: /Library/Frameworks/R.framework/Versions/Current/Resources/bin/R CMD INSTALL velociraptor StartedAt: 2021-10-14 09:15:38 -0400 (Thu, 14 Oct 2021) EndedAt: 2021-10-14 09:16:27 -0400 (Thu, 14 Oct 2021) EllapsedTime: 49.0 seconds RetCode: 0 Status: OK