Package: universalmotif Version: 1.10.2 Command: rm -rf universalmotif.buildbin-libdir && mkdir universalmotif.buildbin-libdir && /Users/biocbuild/BBS/utils/build-universal.sh universalmotif_1.10.2.tar.gz /Library/Frameworks/R.framework/Versions/Current/Resources/bin/R universalmotif.buildbin-libdir StartedAt: 2021-10-15 04:20:12 -0400 (Fri, 15 Oct 2021) EndedAt: 2021-10-15 04:22:20 -0400 (Fri, 15 Oct 2021) EllapsedTime: 128.1 seconds RetCode: 0 Status: OK PackageFile: universalmotif_1.10.2.tgz PackageFileSize: 5.36 MiB