git_url: https://git.bioconductor.org/packages/uncoverappLib git_branch: RELEASE_3_13 git_last_commit: eac9828 git_last_commit_date: 2021-05-19 12:54:28 -0400 (Wed, 19 May 2021) Package: uncoverappLib Version: 1.2.0 Maintainer: Emanuela Iovino MaintainerEmail: emanuela.iovino at unibo.it