Package: trackViewer Version: 1.28.1 Command: C:\cygwin\bin\curl.exe -O http://155.52.207.165/BBS/3.13/bioc/src/contrib/trackViewer_1.28.1.tar.gz && rm -rf trackViewer.buildbin-libdir && mkdir trackViewer.buildbin-libdir && C:\Users\biocbuild\bbs-3.13-bioc\R\bin\R.exe CMD INSTALL --merge-multiarch --build --library=trackViewer.buildbin-libdir trackViewer_1.28.1.tar.gz && C:\Users\biocbuild\bbs-3.13-bioc\R\bin\R.exe CMD INSTALL trackViewer_1.28.1.zip && rm trackViewer_1.28.1.tar.gz trackViewer_1.28.1.zip StartedAt: 2021-10-14 10:54:50 -0400 (Thu, 14 Oct 2021) EndedAt: 2021-10-14 10:56:52 -0400 (Thu, 14 Oct 2021) EllapsedTime: 121.6 seconds RetCode: 0 Status: OK