Package: trackViewer Version: 1.28.1 Command: /Library/Frameworks/R.framework/Versions/Current/Resources/bin/R CMD check --install=check:trackViewer.install-out.txt --library=/Library/Frameworks/R.framework/Versions/Current/Resources/library --no-vignettes --timings trackViewer_1.28.1.tar.gz StartedAt: 2021-10-15 00:50:55 -0400 (Fri, 15 Oct 2021) EndedAt: 2021-10-15 01:02:10 -0400 (Fri, 15 Oct 2021) EllapsedTime: 675.2 seconds RetCode: 0 Status: OK CheckDir: trackViewer.Rcheck Warnings: 0