Package: ssviz Version: 1.26.0 Command: /home/biocbuild/bbs-3.13-bioc/R/bin/R CMD build --keep-empty-dirs --no-resave-data ssviz StartedAt: 2021-10-14 08:31:09 -0400 (Thu, 14 Oct 2021) EndedAt: 2021-10-14 08:31:30 -0400 (Thu, 14 Oct 2021) EllapsedTime: 21.1 seconds RetCode: 0 Status: OK PackageFile: ssviz_1.26.0.tar.gz PackageFileSize: 1011 KiB