Package: splots Version: 1.58.0 Command: /Library/Frameworks/R.framework/Versions/Current/Resources/bin/R CMD INSTALL splots StartedAt: 2021-10-14 08:07:42 -0400 (Thu, 14 Oct 2021) EndedAt: 2021-10-14 08:08:20 -0400 (Thu, 14 Oct 2021) EllapsedTime: 38.3 seconds RetCode: 0 Status: OK