Package: spkTools Version: 1.48.0 Command: C:\Users\biocbuild\bbs-3.13-bioc\R\bin\R.exe CMD check --force-multiarch --install=check:spkTools.install-out.txt --library=C:\Users\biocbuild\bbs-3.13-bioc\R\library --no-vignettes --timings spkTools_1.48.0.tar.gz StartedAt: 2021-10-15 06:04:57 -0400 (Fri, 15 Oct 2021) EndedAt: 2021-10-15 06:08:38 -0400 (Fri, 15 Oct 2021) EllapsedTime: 220.9 seconds RetCode: 0 Status: OK CheckDir: spkTools.Rcheck Warnings: 0