Package: sevenC Version: 1.12.0 Command: /home/biocbuild/bbs-3.13-bioc/R/bin/R CMD INSTALL sevenC StartedAt: 2021-10-14 06:22:30 -0400 (Thu, 14 Oct 2021) EndedAt: 2021-10-14 06:22:49 -0400 (Thu, 14 Oct 2021) EllapsedTime: 18.8 seconds RetCode: 0 Status: OK