git_url: https://git.bioconductor.org/packages/seqplots git_branch: RELEASE_3_13 git_last_commit: a7ff6cc git_last_commit_date: 2021-05-19 12:07:31 -0400 (Wed, 19 May 2021) Package: seqplots Version: 1.30.0 Maintainer: Przemyslaw Stempor MaintainerEmail: ps562 at cam.ac.uk