Package: seqbias Version: 1.40.0 Command: chmod a+r seqbias -R && C:\Users\biocbuild\bbs-3.13-bioc\R\bin\R.exe CMD build --keep-empty-dirs --no-resave-data seqbias StartedAt: 2021-10-14 18:09:49 -0400 (Thu, 14 Oct 2021) EndedAt: 2021-10-14 18:12:55 -0400 (Thu, 14 Oct 2021) EllapsedTime: 185.4 seconds RetCode: 0 Status: OK PackageFile: seqbias_1.40.0.tar.gz PackageFileSize: 948.8 KiB