Package: scRecover Version: 1.8.0 Command: /home/biocbuild/bbs-3.13-bioc/R/bin/R CMD build --keep-empty-dirs --no-resave-data scRecover StartedAt: 2021-10-14 08:22:08 -0400 (Thu, 14 Oct 2021) EndedAt: 2021-10-14 08:24:17 -0400 (Thu, 14 Oct 2021) EllapsedTime: 129.0 seconds RetCode: 0 Status: OK PackageFile: scRecover_1.8.0.tar.gz PackageFileSize: 1.699 MiB