Package: scDD Version: 1.16.0 Command: C:\cygwin\bin\curl.exe -O http://155.52.207.165/BBS/3.13/bioc/src/contrib/scDD_1.16.0.tar.gz && rm -rf scDD.buildbin-libdir && mkdir scDD.buildbin-libdir && C:\Users\biocbuild\bbs-3.13-bioc\R\bin\R.exe CMD INSTALL --merge-multiarch --build --library=scDD.buildbin-libdir scDD_1.16.0.tar.gz && C:\Users\biocbuild\bbs-3.13-bioc\R\bin\R.exe CMD INSTALL scDD_1.16.0.zip && rm scDD_1.16.0.tar.gz scDD_1.16.0.zip StartedAt: 2021-10-14 09:21:57 -0400 (Thu, 14 Oct 2021) EndedAt: 2021-10-14 09:23:01 -0400 (Thu, 14 Oct 2021) EllapsedTime: 64.6 seconds RetCode: 0 Status: OK