Package: scClassifR Version: 1.0.0 Command: /Library/Frameworks/R.framework/Versions/Current/Resources/bin/R CMD check --install=check:scClassifR.install-out.txt --library=/Library/Frameworks/R.framework/Versions/Current/Resources/library --no-vignettes --timings scClassifR_1.0.0.tar.gz StartedAt: 2021-10-14 23:36:44 -0400 (Thu, 14 Oct 2021) EndedAt: 2021-10-14 23:43:25 -0400 (Thu, 14 Oct 2021) EllapsedTime: 401.1 seconds RetCode: 0 Status: WARNINGS CheckDir: scClassifR.Rcheck Warnings: 1