Package: sangeranalyseR Version: 1.2.0 Command: /home/biocbuild/bbs-3.13-bioc/R/bin/R CMD build --keep-empty-dirs --no-resave-data sangeranalyseR StartedAt: 2021-10-14 08:18:00 -0400 (Thu, 14 Oct 2021) EndedAt: 2021-10-14 08:18:43 -0400 (Thu, 14 Oct 2021) EllapsedTime: 43.5 seconds RetCode: 0 Status: OK PackageFile: sangeranalyseR_1.2.0.tar.gz PackageFileSize: 36.9 MiB