git_url: https://git.bioconductor.org/packages/rnaEditr git_branch: RELEASE_3_13 git_last_commit: 377f691 git_last_commit_date: 2021-05-19 12:56:26 -0400 (Wed, 19 May 2021) Package: rnaEditr Version: 1.2.0 Maintainer: Lanyu Zhang MaintainerEmail: jennyzly2016 at gmail.com