Package: ribor Version: 1.4.0 Command: rm -rf ribor.buildbin-libdir && mkdir ribor.buildbin-libdir && /Users/biocbuild/BBS/utils/build-universal.sh ribor_1.4.0.tar.gz /Library/Frameworks/R.framework/Versions/Current/Resources/bin/R ribor.buildbin-libdir StartedAt: 2021-10-15 03:44:50 -0400 (Fri, 15 Oct 2021) EndedAt: 2021-10-15 03:45:07 -0400 (Fri, 15 Oct 2021) EllapsedTime: 16.8 seconds RetCode: 0 Status: OK PackageFile: ribor_1.4.0.tgz PackageFileSize: 4.461 MiB