Package: rhdf5 Version: 2.36.0 Command: /home/biocbuild/bbs-3.13-bioc/R/bin/R CMD build --keep-empty-dirs --no-resave-data rhdf5 StartedAt: 2021-10-14 08:12:19 -0400 (Thu, 14 Oct 2021) EndedAt: 2021-10-14 08:18:17 -0400 (Thu, 14 Oct 2021) EllapsedTime: 357.9 seconds RetCode: 0 Status: OK PackageFile: rhdf5_2.36.0.tar.gz PackageFileSize: 1.04 MiB