Package: ramwas Version: 1.16.0 Command: rm -rf ramwas.buildbin-libdir && mkdir ramwas.buildbin-libdir && /Users/biocbuild/BBS/utils/build-universal.sh ramwas_1.16.0.tar.gz /Library/Frameworks/R.framework/Versions/Current/Resources/bin/R ramwas.buildbin-libdir StartedAt: 2021-10-15 03:37:48 -0400 (Fri, 15 Oct 2021) EndedAt: 2021-10-15 03:38:49 -0400 (Fri, 15 Oct 2021) EllapsedTime: 60.5 seconds RetCode: 0 Status: OK PackageFile: ramwas_1.16.0.tgz PackageFileSize: 3.448 MiB