Package: proteinProfiles Version: 1.32.0 Command: /Library/Frameworks/R.framework/Versions/Current/Resources/bin/R CMD build --keep-empty-dirs --no-resave-data proteinProfiles StartedAt: 2021-10-14 14:05:22 -0400 (Thu, 14 Oct 2021) EndedAt: 2021-10-14 14:05:36 -0400 (Thu, 14 Oct 2021) EllapsedTime: 13.6 seconds RetCode: 0 Status: OK PackageFile: proteinProfiles_1.32.0.tar.gz PackageFileSize: 270.7 KiB