Package: pageRank Version: 1.2.0 Command: /home/biocbuild/bbs-3.13-bioc/R/bin/R CMD INSTALL pageRank StartedAt: 2021-10-14 06:25:21 -0400 (Thu, 14 Oct 2021) EndedAt: 2021-10-14 06:25:57 -0400 (Thu, 14 Oct 2021) EllapsedTime: 36.5 seconds RetCode: 0 Status: OK