Package: nethet Version: 1.24.0 Command: chmod a+r nethet -R && C:\Users\biocbuild\bbs-3.13-bioc\R\bin\R.exe CMD build --keep-empty-dirs --no-resave-data nethet StartedAt: 2021-10-14 16:07:43 -0400 (Thu, 14 Oct 2021) EndedAt: 2021-10-14 16:11:17 -0400 (Thu, 14 Oct 2021) EllapsedTime: 214.9 seconds RetCode: 0 Status: OK PackageFile: nethet_1.24.0.tar.gz PackageFileSize: 683.6 KiB