Package: nethet Version: 1.24.0 Command: /home/biocbuild/bbs-3.13-bioc/R/bin/R CMD build --keep-empty-dirs --no-resave-data nethet StartedAt: 2021-10-14 07:50:53 -0400 (Thu, 14 Oct 2021) EndedAt: 2021-10-14 07:53:53 -0400 (Thu, 14 Oct 2021) EllapsedTime: 179.7 seconds RetCode: 0 Status: OK PackageFile: nethet_1.24.0.tar.gz PackageFileSize: 679.8 KiB