Package: netbiov Version: 1.26.0 Command: rm -rf netbiov.buildbin-libdir && mkdir netbiov.buildbin-libdir && C:\Users\biocbuild\bbs-3.13-bioc\R\bin\R.exe CMD INSTALL --merge-multiarch --build --library=netbiov.buildbin-libdir netbiov_1.26.0.tar.gz StartedAt: 2021-10-15 10:41:17 -0400 (Fri, 15 Oct 2021) EndedAt: 2021-10-15 10:42:15 -0400 (Fri, 15 Oct 2021) EllapsedTime: 57.6 seconds RetCode: 0 Status: OK PackageFile: netbiov_1.26.0.zip PackageFileSize: 9.443 MiB