Package: mpra Version: 1.14.0 Command: rm -rf mpra.buildbin-libdir && mkdir mpra.buildbin-libdir && /Users/biocbuild/BBS/utils/build-universal.sh mpra_1.14.0.tar.gz /Library/Frameworks/R.framework/Versions/Current/Resources/bin/R mpra.buildbin-libdir StartedAt: 2021-10-15 03:11:18 -0400 (Fri, 15 Oct 2021) EndedAt: 2021-10-15 03:12:23 -0400 (Fri, 15 Oct 2021) EllapsedTime: 64.2 seconds RetCode: 0 Status: OK PackageFile: mpra_1.14.0.tgz PackageFileSize: 3.269 MiB