git_url: https://git.bioconductor.org/packages/mnem git_branch: RELEASE_3_13 git_last_commit: b3e3d91 git_last_commit_date: 2021-05-19 12:44:10 -0400 (Wed, 19 May 2021) Package: mnem Version: 1.8.0 Maintainer: Martin Pirkl MaintainerEmail: martinpirkl at yahoo.de