Package: mixOmics Version: 6.16.3 Command: /home/biocbuild/bbs-3.13-bioc/R/bin/R CMD INSTALL mixOmics StartedAt: 2021-10-14 06:20:03 -0400 (Thu, 14 Oct 2021) EndedAt: 2021-10-14 06:20:28 -0400 (Thu, 14 Oct 2021) EllapsedTime: 25.2 seconds RetCode: 0 Status: OK