Package: metaseqR2 Version: 1.4.14 Command: C:\cygwin\bin\curl.exe -O http://155.52.207.165/BBS/3.13/bioc/src/contrib/metaseqR2_1.4.14.tar.gz && rm -rf metaseqR2.buildbin-libdir && mkdir metaseqR2.buildbin-libdir && C:\Users\biocbuild\bbs-3.13-bioc\R\bin\R.exe CMD INSTALL --merge-multiarch --build --library=metaseqR2.buildbin-libdir metaseqR2_1.4.14.tar.gz && C:\Users\biocbuild\bbs-3.13-bioc\R\bin\R.exe CMD INSTALL metaseqR2_1.4.14.zip && rm metaseqR2_1.4.14.tar.gz metaseqR2_1.4.14.zip StartedAt: 2021-10-14 11:22:17 -0400 (Thu, 14 Oct 2021) EndedAt: 2021-10-14 11:24:46 -0400 (Thu, 14 Oct 2021) EllapsedTime: 149.8 seconds RetCode: 0 Status: OK