Package: lipidr Version: 2.6.0 Command: /home/biocbuild/bbs-3.13-bioc/R/bin/R CMD INSTALL lipidr StartedAt: 2021-10-14 06:18:46 -0400 (Thu, 14 Oct 2021) EndedAt: 2021-10-14 06:19:08 -0400 (Thu, 14 Oct 2021) EllapsedTime: 21.6 seconds RetCode: 0 Status: OK