Package: iterClust Version: 1.14.0 Command: C:\cygwin\bin\curl.exe -O http://155.52.207.165/BBS/3.13/bioc/src/contrib/iterClust_1.14.0.tar.gz && rm -rf iterClust.buildbin-libdir && mkdir iterClust.buildbin-libdir && C:\Users\biocbuild\bbs-3.13-bioc\R\bin\R.exe CMD INSTALL --merge-multiarch --build --library=iterClust.buildbin-libdir iterClust_1.14.0.tar.gz && C:\Users\biocbuild\bbs-3.13-bioc\R\bin\R.exe CMD INSTALL iterClust_1.14.0.zip && rm iterClust_1.14.0.tar.gz iterClust_1.14.0.zip StartedAt: 2021-10-14 07:30:27 -0400 (Thu, 14 Oct 2021) EndedAt: 2021-10-14 07:34:02 -0400 (Thu, 14 Oct 2021) EllapsedTime: 214.6 seconds RetCode: 0 Status: OK