Package: infinityFlow Version: 1.2.0 Command: chmod a+r infinityFlow -R && C:\Users\biocbuild\bbs-3.13-bioc\R\bin\R.exe CMD build --keep-empty-dirs --no-resave-data infinityFlow StartedAt: 2021-10-14 15:04:27 -0400 (Thu, 14 Oct 2021) EndedAt: 2021-10-14 15:08:24 -0400 (Thu, 14 Oct 2021) EllapsedTime: 236.3 seconds RetCode: 1 Status: ERROR PackageFile: None PackageFileSize: NA