Package: groHMM Version: 1.26.0 Command: chmod a+r groHMM -R && C:\Users\biocbuild\bbs-3.13-bioc\R\bin\R.exe CMD build --keep-empty-dirs --no-resave-data groHMM StartedAt: 2021-10-14 14:41:04 -0400 (Thu, 14 Oct 2021) EndedAt: 2021-10-14 14:46:21 -0400 (Thu, 14 Oct 2021) EllapsedTime: 316.1 seconds RetCode: 0 Status: OK PackageFile: groHMM_1.26.0.tar.gz PackageFileSize: 4.132 MiB