Package: ggtreeExtra Version: 1.2.3 Command: rm -rf ggtreeExtra.buildbin-libdir && mkdir ggtreeExtra.buildbin-libdir && C:\Users\biocbuild\bbs-3.13-bioc\R\bin\R.exe CMD INSTALL --merge-multiarch --build --library=ggtreeExtra.buildbin-libdir ggtreeExtra_1.2.3.tar.gz StartedAt: 2021-10-15 09:36:15 -0400 (Fri, 15 Oct 2021) EndedAt: 2021-10-15 09:37:45 -0400 (Fri, 15 Oct 2021) EllapsedTime: 89.4 seconds RetCode: 0 Status: OK PackageFile: ggtreeExtra_1.2.3.zip PackageFileSize: 353 KiB