Package: geva Version: 1.0.0 Command: rm -rf geva.buildbin-libdir && mkdir geva.buildbin-libdir && /Users/biocbuild/BBS/utils/build-universal.sh geva_1.0.0.tar.gz /Library/Frameworks/R.framework/Versions/Current/Resources/bin/R geva.buildbin-libdir StartedAt: 2021-10-15 02:34:59 -0400 (Fri, 15 Oct 2021) EndedAt: 2021-10-15 02:36:09 -0400 (Fri, 15 Oct 2021) EllapsedTime: 69.9 seconds RetCode: 0 Status: OK PackageFile: geva_1.0.0.tgz PackageFileSize: 2.63 MiB