Package: flowPlots Version: 1.40.0 Command: chmod a+r flowPlots -R && C:\Users\biocbuild\bbs-3.13-bioc\R\bin\R.exe CMD build --keep-empty-dirs --no-resave-data flowPlots StartedAt: 2021-10-14 14:14:15 -0400 (Thu, 14 Oct 2021) EndedAt: 2021-10-14 14:15:37 -0400 (Thu, 14 Oct 2021) EllapsedTime: 82.0 seconds RetCode: 0 Status: OK PackageFile: flowPlots_1.40.0.tar.gz PackageFileSize: 512.8 KiB