git_url: https://git.bioconductor.org/packages/flowPloidy git_branch: RELEASE_3_13 git_last_commit: 565690e git_last_commit_date: 2021-05-19 12:23:38 -0400 (Wed, 19 May 2021) Package: flowPloidy Version: 1.18.0 Maintainer: Tyler Smith MaintainerEmail: tyler at plantarum.ca