Package: flowPeaks Version: 1.38.0 Command: rm -rf flowPeaks.buildbin-libdir && mkdir flowPeaks.buildbin-libdir && /Users/biocbuild/BBS/utils/build-universal.sh flowPeaks_1.38.0.tar.gz /Library/Frameworks/R.framework/Versions/Current/Resources/bin/R flowPeaks.buildbin-libdir StartedAt: 2021-10-15 02:26:02 -0400 (Fri, 15 Oct 2021) EndedAt: 2021-10-15 02:27:01 -0400 (Fri, 15 Oct 2021) EllapsedTime: 59.3 seconds RetCode: 0 Status: OK PackageFile: flowPeaks_1.38.0.tgz PackageFileSize: 2.935 MiB