git_url: https://git.bioconductor.org/packages/flowMeans git_branch: RELEASE_3_13 git_last_commit: eaf6792 git_last_commit_date: 2021-05-19 11:45:23 -0400 (Wed, 19 May 2021) Package: flowMeans Version: 1.52.0 Maintainer: Nima Aghaeepour MaintainerEmail: naghaeep at gmail.com