Package: fcoex Version: 1.6.0 Command: rm -rf fcoex.buildbin-libdir && mkdir fcoex.buildbin-libdir && /Users/biocbuild/BBS/utils/build-universal.sh fcoex_1.6.0.tar.gz /Library/Frameworks/R.framework/Versions/Current/Resources/bin/R fcoex.buildbin-libdir StartedAt: 2021-10-15 02:23:00 -0400 (Fri, 15 Oct 2021) EndedAt: 2021-10-15 02:24:09 -0400 (Fri, 15 Oct 2021) EllapsedTime: 69.1 seconds RetCode: 0 Status: OK PackageFile: fcoex_1.6.0.tgz PackageFileSize: 2.793 MiB