Package: fabia Version: 2.38.0 Command: rm -rf fabia.buildbin-libdir && mkdir fabia.buildbin-libdir && /Users/biocbuild/BBS/utils/build-universal.sh fabia_2.38.0.tar.gz /Library/Frameworks/R.framework/Versions/Current/Resources/bin/R fabia.buildbin-libdir StartedAt: 2021-10-15 02:21:54 -0400 (Fri, 15 Oct 2021) EndedAt: 2021-10-15 02:23:10 -0400 (Fri, 15 Oct 2021) EllapsedTime: 76.8 seconds RetCode: 0 Status: OK PackageFile: fabia_2.38.0.tgz PackageFileSize: 1.114 MiB