Package: dittoSeq Version: 1.4.4 Command: rm -rf dittoSeq.buildbin-libdir && mkdir dittoSeq.buildbin-libdir && C:\Users\biocbuild\bbs-3.13-bioc\R\bin\R.exe CMD INSTALL --merge-multiarch --build --library=dittoSeq.buildbin-libdir dittoSeq_1.4.4.tar.gz StartedAt: 2021-10-15 09:00:42 -0400 (Fri, 15 Oct 2021) EndedAt: 2021-10-15 09:01:48 -0400 (Fri, 15 Oct 2021) EllapsedTime: 66.6 seconds RetCode: 0 Status: OK PackageFile: dittoSeq_1.4.4.zip PackageFileSize: 2.122 MiB