Package: dada2 Version: 1.20.0 Command: chmod a+r dada2 -R && C:\Users\biocbuild\bbs-3.13-bioc\R\bin\R.exe CMD build --keep-empty-dirs --no-resave-data dada2 StartedAt: 2021-10-14 13:12:20 -0400 (Thu, 14 Oct 2021) EndedAt: 2021-10-14 13:15:02 -0400 (Thu, 14 Oct 2021) EllapsedTime: 161.6 seconds RetCode: 0 Status: OK PackageFile: dada2_1.20.0.tar.gz PackageFileSize: 2.47 MiB