Package: cytolib Version: 2.4.0 Command: C:\cygwin\bin\curl.exe -O http://155.52.207.165/BBS/3.13/bioc/src/contrib/cytolib_2.4.0.tar.gz && rm -rf cytolib.buildbin-libdir && mkdir cytolib.buildbin-libdir && C:\Users\biocbuild\bbs-3.13-bioc\R\bin\R.exe CMD INSTALL --merge-multiarch --build --library=cytolib.buildbin-libdir cytolib_2.4.0.tar.gz && C:\Users\biocbuild\bbs-3.13-bioc\R\bin\R.exe CMD INSTALL cytolib_2.4.0.zip && rm cytolib_2.4.0.tar.gz cytolib_2.4.0.zip StartedAt: 2021-10-14 07:13:24 -0400 (Thu, 14 Oct 2021) EndedAt: 2021-10-14 07:23:26 -0400 (Thu, 14 Oct 2021) EllapsedTime: 601.6 seconds RetCode: 0 Status: OK